BEGIN:VCALENDAR
VERSION:2.0
PRODID:-//CERN//INDICO//EN
BEGIN:VEVENT
SUMMARY:Using the OBLIVION Supercomputer - An introduction with practical 
 examples for the HPDA course students [ONLINE || NO REGISTRATION FEE]
DTSTART:20260508T170000Z
DTEND:20260508T190000Z
DTSTAMP:20260424T100900Z
UID:indico-event-187@indico.hpc.uevora.pt
CONTACT:meetings@catedrahpc.uevora.pt\;+351 266740800
DESCRIPTION:                 ONLINE FREE COURSESponsored byEuroCC
 3 (European Commission\, EuroHPC JU)Foundation for Science & Technology (P
 ortugal)\n\nhttps://indico.hpc.uevora.pt/event/187/
LOCATION:Évora
URL:https://indico.hpc.uevora.pt/event/187/
END:VEVENT
END:VCALENDAR
